BEGIN:VCALENDAR
VERSION:2.0
PRODID:-//Plaza de Sueños - ECPv6.15.20//NONSGML v1.0//EN
CALSCALE:GREGORIAN
METHOD:PUBLISH
X-WR-CALNAME:Plaza de Sueños
X-ORIGINAL-URL:https://plazadesuenos.com
X-WR-CALDESC:Events for Plaza de Sueños
REFRESH-INTERVAL;VALUE=DURATION:PT1H
X-Robots-Tag:noindex
X-PUBLISHED-TTL:PT1H
BEGIN:VTIMEZONE
TZID:America/Chicago
BEGIN:DAYLIGHT
TZOFFSETFROM:-0600
TZOFFSETTO:-0500
TZNAME:CDT
DTSTART:20250309T080000
END:DAYLIGHT
BEGIN:STANDARD
TZOFFSETFROM:-0500
TZOFFSETTO:-0600
TZNAME:CST
DTSTART:20251102T070000
END:STANDARD
BEGIN:DAYLIGHT
TZOFFSETFROM:-0600
TZOFFSETTO:-0500
TZNAME:CDT
DTSTART:20260308T080000
END:DAYLIGHT
BEGIN:STANDARD
TZOFFSETFROM:-0500
TZOFFSETTO:-0600
TZNAME:CST
DTSTART:20261101T070000
END:STANDARD
BEGIN:DAYLIGHT
TZOFFSETFROM:-0600
TZOFFSETTO:-0500
TZNAME:CDT
DTSTART:20270314T080000
END:DAYLIGHT
BEGIN:STANDARD
TZOFFSETFROM:-0500
TZOFFSETTO:-0600
TZNAME:CST
DTSTART:20271107T070000
END:STANDARD
END:VTIMEZONE
BEGIN:VEVENT
DTSTART;TZID=America/Chicago:20260425T110000
DTEND;TZID=America/Chicago:20260425T150000
DTSTAMP:20260421T185120
CREATED:20260421T160821Z
LAST-MODIFIED:20260421T160821Z
UID:10000003-1777114800-1777129200@plazadesuenos.com
SUMMARY:The Wellness Edit
DESCRIPTION:The Beauty Boost San Antonio \nCraft your own wellness journey! \nExplore 20+ local wellness servies. \nDiscover new tools for your helath journey. \nSnag your spot by scanning the QR code.
URL:https://plazadesuenos.com/event/the-wellness-edit/
LOCATION:Plaza De Suenos\, 1811 S Laredo St\, San Antonio\, TX\, 78207\, United States
ATTACH;FMTTYPE=image/png:https://plazadesuenos.com/wp-content/uploads/2026/04/Wellness-Edit-Web-Template.png
END:VEVENT
END:VCALENDAR